BEGIN:VCALENDAR
VERSION:2.0
PRODID:-//Columbia Riverkeeper - ECPv6.15.17//NONSGML v1.0//EN
CALSCALE:GREGORIAN
METHOD:PUBLISH
X-ORIGINAL-URL:https://www.columbiariverkeeper.org
X-WR-CALDESC:Events for Columbia Riverkeeper
REFRESH-INTERVAL;VALUE=DURATION:PT1H
X-Robots-Tag:noindex
X-PUBLISHED-TTL:PT1H
BEGIN:VTIMEZONE
TZID:America/Los_Angeles
BEGIN:DAYLIGHT
TZOFFSETFROM:-0800
TZOFFSETTO:-0700
TZNAME:PDT
DTSTART:20230312T100000
END:DAYLIGHT
BEGIN:STANDARD
TZOFFSETFROM:-0700
TZOFFSETTO:-0800
TZNAME:PST
DTSTART:20231105T090000
END:STANDARD
BEGIN:DAYLIGHT
TZOFFSETFROM:-0800
TZOFFSETTO:-0700
TZNAME:PDT
DTSTART:20240310T100000
END:DAYLIGHT
BEGIN:STANDARD
TZOFFSETFROM:-0700
TZOFFSETTO:-0800
TZNAME:PST
DTSTART:20241103T090000
END:STANDARD
BEGIN:DAYLIGHT
TZOFFSETFROM:-0800
TZOFFSETTO:-0700
TZNAME:PDT
DTSTART:20250309T100000
END:DAYLIGHT
BEGIN:STANDARD
TZOFFSETFROM:-0700
TZOFFSETTO:-0800
TZNAME:PST
DTSTART:20251102T090000
END:STANDARD
END:VTIMEZONE
BEGIN:VEVENT
DTSTART;TZID=America/Los_Angeles:20240618T113000
DTEND;TZID=America/Los_Angeles:20240618T133000
DTSTAMP:20260421T160824
CREATED:20240612T030253Z
LAST-MODIFIED:20250916T184746Z
UID:3705-1718710200-1718717400@www.columbiariverkeeper.org
SUMMARY:BOOK TALK 6/18 IN PDX
DESCRIPTION:Big River: Resilience and Renewal in the Columbia Basin with photographer David Moskowitz and author Eileen Delehanty Pearkes\n\nExperience a presentation of the new book “Big River: Resilience and Renewal in the Columbia Basin\,” where photographer David Moskowitz\, author Eileen Delehanty Pearkes\, and special guests will showcase a multimedia journey along the Columbia River from source to sea\, illuminating its natural wonders and human stories\, while also highlighting the challenges facing the region and the people working on sustainable solutions. \nPay What You Can (sliding scale)\n$5 suggested donation
URL:https://www.columbiariverkeeper.org/event/book-talk-6-18-in-pdx-2/
LOCATION:Empirical Theater at OMSI\, 1945 SE Water Ave\, Portland\, OR\, 97214\, United States
END:VEVENT
END:VCALENDAR