BEGIN:VCALENDAR
VERSION:2.0
PRODID:-//Columbia Riverkeeper - ECPv6.15.17//NONSGML v1.0//EN
CALSCALE:GREGORIAN
METHOD:PUBLISH
X-ORIGINAL-URL:https://www.columbiariverkeeper.org
X-WR-CALDESC:Events for Columbia Riverkeeper
REFRESH-INTERVAL;VALUE=DURATION:PT1H
X-Robots-Tag:noindex
X-PUBLISHED-TTL:PT1H
BEGIN:VTIMEZONE
TZID:America/Los_Angeles
BEGIN:DAYLIGHT
TZOFFSETFROM:-0800
TZOFFSETTO:-0700
TZNAME:PDT
DTSTART:20230312T100000
END:DAYLIGHT
BEGIN:STANDARD
TZOFFSETFROM:-0700
TZOFFSETTO:-0800
TZNAME:PST
DTSTART:20231105T090000
END:STANDARD
BEGIN:DAYLIGHT
TZOFFSETFROM:-0800
TZOFFSETTO:-0700
TZNAME:PDT
DTSTART:20240310T100000
END:DAYLIGHT
BEGIN:STANDARD
TZOFFSETFROM:-0700
TZOFFSETTO:-0800
TZNAME:PST
DTSTART:20241103T090000
END:STANDARD
BEGIN:DAYLIGHT
TZOFFSETFROM:-0800
TZOFFSETTO:-0700
TZNAME:PDT
DTSTART:20250309T100000
END:DAYLIGHT
BEGIN:STANDARD
TZOFFSETFROM:-0700
TZOFFSETTO:-0800
TZNAME:PST
DTSTART:20251102T090000
END:STANDARD
END:VTIMEZONE
BEGIN:VEVENT
DTSTART;VALUE=DATE:20240901
DTEND;VALUE=DATE:20241001
DTSTAMP:20260415T154258
CREATED:20240917T210001Z
LAST-MODIFIED:20240917T210211Z
UID:8023-1725148800-1727740799@www.columbiariverkeeper.org
SUMMARY:Atomic Bamboozle Online Film Showing and Webinar
DESCRIPTION:Atomic Bamboozle\nSierra Club Nuclear Free Film Series\nAtomic Bamboozle online film showing and webinar: Don’t miss the free online showing of the film\, “Atomic Bamboozle: The False Promise of a Nuclear Renaissance” featuring Columbia Riverkeeper’s Executive Director\, Lauren Goldberg.  \nThe film is available free online\, thanks to the Sierra Club Grassroots Network Nuclear Free Team\, from September 1 through September 30\, and concludes with a webinar on Monday\, September 30\, 5-7 pm PST.
URL:https://www.columbiariverkeeper.org/event/atomic-bamboozle-online-film-showing-and-webinar/
LOCATION:OR
END:VEVENT
BEGIN:VEVENT
DTSTART;VALUE=DATE:20240915
DTEND;VALUE=DATE:20240917
DTSTAMP:20260415T154258
CREATED:20240829T031119Z
LAST-MODIFIED:20240912T000807Z
UID:7854-1726358400-1726531199@www.columbiariverkeeper.org
SUMMARY:Veterans for Peace Golden Rule Project
DESCRIPTION:Join us in welcoming the Golden Rule! See the Golden Rule as it sails into Portland accompanied by “Mosquito Fleet” and more! This is a great chance to see the Golden Rule and greet the crew as they arrive. After\, at 2 p.m. there will be a Peace Party and picnic in Tom McCall Park (98 SW Naito Pkwy\, Portland\, OR 97204) with music\, dancing\, and speeches. \n \nThe Golden Rule is coming to Portland and Columbia Riverkeeper is joining them along the Columbia!\nThe Golden Rule is a project of Veterans For Peace\, aiming to advance opposition to nuclear weapons and war\, and to do so in a dramatic fashion. The Golden Rule\, is the original peace ship that set sail in 1958 to stop nuclear weapons tests in the Marshall Islands. Today\, the ship sails to show that nuclear abolition is possible and that bravery and tenacity can overcome militarism. \nIn support of a nuclear-free future\, we will be joining the Golden Rule to highlight our opposition to Small Modular Nuclear Reactors and our advocacy for a clean up of the Hanford Nuclear Site that is thorough and just. Watch the ship sail into Portland on Sunday 9/15 @ 12pm and come to the closing potluck on Monday 9/16 @ 6pm and listen to speakers including Columbia Riverkeeper’s Policy Director\, Kelly Campbell. \nMonday September 16\, 6 p.m. Multnomah Friends Meeting Social Hall / Kitchen: 4312 SE Stark St\, Portland\, OR 97215 \nThe Hanford site\, located in Richland\, WA is one of the most polluted sites in the Western hemisphere. Hanford was part of the “Manhattan Project\,” where plutonium was produced for most of the sixty thousand weapons built for the U.S. nuclear arsenal. \nFor a full list of Golden Rule activities check out the Oregon Physicians for Social Responsibility event calendar. \n 
URL:https://www.columbiariverkeeper.org/event/veterans-for-peace-golden-rule/
LOCATION:Riverplace Marina Public Dock\, 1500 S Harbor Way\, Portland\, OR\, 97201\, United States
END:VEVENT
END:VCALENDAR