BEGIN:VCALENDAR
VERSION:2.0
PRODID:-//Columbia Riverkeeper - ECPv6.15.17//NONSGML v1.0//EN
CALSCALE:GREGORIAN
METHOD:PUBLISH
X-WR-CALNAME:Columbia Riverkeeper
X-ORIGINAL-URL:https://www.columbiariverkeeper.org
X-WR-CALDESC:Events for Columbia Riverkeeper
REFRESH-INTERVAL;VALUE=DURATION:PT1H
X-Robots-Tag:noindex
X-PUBLISHED-TTL:PT1H
BEGIN:VTIMEZONE
TZID:America/Los_Angeles
BEGIN:DAYLIGHT
TZOFFSETFROM:-0800
TZOFFSETTO:-0700
TZNAME:PDT
DTSTART:20240310T100000
END:DAYLIGHT
BEGIN:STANDARD
TZOFFSETFROM:-0700
TZOFFSETTO:-0800
TZNAME:PST
DTSTART:20241103T090000
END:STANDARD
BEGIN:DAYLIGHT
TZOFFSETFROM:-0800
TZOFFSETTO:-0700
TZNAME:PDT
DTSTART:20250309T100000
END:DAYLIGHT
BEGIN:STANDARD
TZOFFSETFROM:-0700
TZOFFSETTO:-0800
TZNAME:PST
DTSTART:20251102T090000
END:STANDARD
BEGIN:DAYLIGHT
TZOFFSETFROM:-0800
TZOFFSETTO:-0700
TZNAME:PDT
DTSTART:20260308T100000
END:DAYLIGHT
BEGIN:STANDARD
TZOFFSETFROM:-0700
TZOFFSETTO:-0800
TZNAME:PST
DTSTART:20261101T090000
END:STANDARD
END:VTIMEZONE
BEGIN:VEVENT
DTSTART;TZID=America/Los_Angeles:20250624T163000
DTEND;TZID=America/Los_Angeles:20250624T190000
DTSTAMP:20260415T150447
CREATED:20250605T221059Z
LAST-MODIFIED:20250606T190240Z
UID:9665-1750782600-1750791600@www.columbiariverkeeper.org
SUMMARY:Atomic Bamboozle Film Screening
DESCRIPTION:What do the Trojan Nuclear Plant and today’s so-called “small modular reactors” have in common? A lot more than you think. \nJoin us on June 24 for a screening of the powerful film\, Atomic Bamboozle—a documentary that unpacks the legacy of nuclear resistance in the Northwest and the dangerous myths surrounding a new wave of nuclear proposals. \nFeaturing voices from Tribal leaders\, scientists\, attorneys\, and longtime activists. Stick around for a post-film panel with local leaders\, including Columbia Riverkeeper’s Kelly Campbell. \nLearn more about the film and watch a trailer here. \nWe anticipate this event filling up\, register here to ensure your spot at this event. \nWhen: Tuesday\, June 24th from 4:30pm to 7:00pm \nWhere: Columbia Room at the Vancouver Community Library\, 901 C St\, Vancouver\, WA 98660 \nOrganized by the Watershed Alliance of Southwest Washington. \n 
URL:https://www.columbiariverkeeper.org/event/atomic-bamboozle-film-screening/
LOCATION:Columbia Room at the Vancouver Community Library\, 901 C St\, Vancouver\, WA\, 98660\, United States
END:VEVENT
END:VCALENDAR