BEGIN:VCALENDAR
VERSION:2.0
PRODID:-//Columbia Riverkeeper - ECPv6.15.17//NONSGML v1.0//EN
CALSCALE:GREGORIAN
METHOD:PUBLISH
X-WR-CALNAME:Columbia Riverkeeper
X-ORIGINAL-URL:https://www.columbiariverkeeper.org
X-WR-CALDESC:Events for Columbia Riverkeeper
REFRESH-INTERVAL;VALUE=DURATION:PT1H
X-Robots-Tag:noindex
X-PUBLISHED-TTL:PT1H
BEGIN:VTIMEZONE
TZID:America/Los_Angeles
BEGIN:DAYLIGHT
TZOFFSETFROM:-0800
TZOFFSETTO:-0700
TZNAME:PDT
DTSTART:20240310T100000
END:DAYLIGHT
BEGIN:STANDARD
TZOFFSETFROM:-0700
TZOFFSETTO:-0800
TZNAME:PST
DTSTART:20241103T090000
END:STANDARD
BEGIN:DAYLIGHT
TZOFFSETFROM:-0800
TZOFFSETTO:-0700
TZNAME:PDT
DTSTART:20250309T100000
END:DAYLIGHT
BEGIN:STANDARD
TZOFFSETFROM:-0700
TZOFFSETTO:-0800
TZNAME:PST
DTSTART:20251102T090000
END:STANDARD
BEGIN:DAYLIGHT
TZOFFSETFROM:-0800
TZOFFSETTO:-0700
TZNAME:PDT
DTSTART:20260308T100000
END:DAYLIGHT
BEGIN:STANDARD
TZOFFSETFROM:-0700
TZOFFSETTO:-0800
TZNAME:PST
DTSTART:20261101T090000
END:STANDARD
END:VTIMEZONE
BEGIN:VEVENT
DTSTART;TZID=America/Los_Angeles:20250806T180000
DTEND;TZID=America/Los_Angeles:20250806T190000
DTSTAMP:20260415T150628
CREATED:20250728T220812Z
LAST-MODIFIED:20250729T185022Z
UID:10095-1754503200-1754506800@www.columbiariverkeeper.org
SUMMARY:Never Again: Art Speaks Where Words Fail
DESCRIPTION:Never Again: Art Speaks Where Words Fail – Art’s Enduring Protest 80 Years Later\nHiroshima & Nagasaki Memorial \nJapanese American Historical Plaza\,\nNW Naito Parkway at NW Couch Street \nPortland OR \nWednesday\, August 6\, 2025 \n6:00pm-7:00pm \nThis year marks 80 years since the atomic bombings of Hiroshima and Nagasaki. As we reflect on this solemn anniversary\, we invite you to join the Hiroshima and Nagasaki Planning Committee for our annual memorial event honoring the lives lost\, the survivors (Hibakusha)\, and the global movement to abolish nuclear weapons. \nNever Again: Art Speaks Where Words Fail — Art’s Enduring Protest 80 Years Later highlights the role of art as an enduring protest—telling stories\, expressing grief\, and inspiring action when words alone cannot. \nThe memorial will feature local speakers\, artists\, and performers including: \nPerformers: \nPortland Taiko \nBRAVO Youth Orchestra Quartet \nTsubaki Bayou Doukoukai \nTodd Yuzuriha \nEmily Washinescran
URL:https://www.columbiariverkeeper.org/event/never-again-art-speaks-where-words-fail/
LOCATION:Hiroshima & Nagasaki Memorial\, Japanese American Historical Plaza\, NW Naito Parkway at NW Couch Street\, Portland\, OR\, 97209\, United States
ATTACH;FMTTYPE=image/png:https://www.columbiariverkeeper.org/wp-content/uploads/2025/07/cranes.png
END:VEVENT
END:VCALENDAR