BEGIN:VCALENDAR
VERSION:2.0
PRODID:-//Columbia Riverkeeper - ECPv6.15.17//NONSGML v1.0//EN
CALSCALE:GREGORIAN
METHOD:PUBLISH
X-ORIGINAL-URL:https://www.columbiariverkeeper.org
X-WR-CALDESC:Events for Columbia Riverkeeper
REFRESH-INTERVAL;VALUE=DURATION:PT1H
X-Robots-Tag:noindex
X-PUBLISHED-TTL:PT1H
BEGIN:VTIMEZONE
TZID:America/Los_Angeles
BEGIN:DAYLIGHT
TZOFFSETFROM:-0800
TZOFFSETTO:-0700
TZNAME:PDT
DTSTART:20240310T100000
END:DAYLIGHT
BEGIN:STANDARD
TZOFFSETFROM:-0700
TZOFFSETTO:-0800
TZNAME:PST
DTSTART:20241103T090000
END:STANDARD
BEGIN:DAYLIGHT
TZOFFSETFROM:-0800
TZOFFSETTO:-0700
TZNAME:PDT
DTSTART:20250309T100000
END:DAYLIGHT
BEGIN:STANDARD
TZOFFSETFROM:-0700
TZOFFSETTO:-0800
TZNAME:PST
DTSTART:20251102T090000
END:STANDARD
BEGIN:DAYLIGHT
TZOFFSETFROM:-0800
TZOFFSETTO:-0700
TZNAME:PDT
DTSTART:20260308T100000
END:DAYLIGHT
BEGIN:STANDARD
TZOFFSETFROM:-0700
TZOFFSETTO:-0800
TZNAME:PST
DTSTART:20261101T090000
END:STANDARD
END:VTIMEZONE
BEGIN:VEVENT
DTSTART;TZID=America/Los_Angeles:20250903T120000
DTEND;TZID=America/Los_Angeles:20250903T120000
DTSTAMP:20260415T152505
CREATED:20250812T220715Z
LAST-MODIFIED:20250812T220955Z
UID:10425-1756900800-1756900800@www.columbiariverkeeper.org
SUMMARY:Voices for the West: What’s NEXT? Oregon’s Massively ‘False’ Climate Solution
DESCRIPTION:Houston-based company NEXT Renewable Fuels (NEXT) wants to build a non-conventional diesel refinery in the Columbia River Estuary near Clatskanie\, Oregon. The second largest of its kind in the nation\, the NEXT refinery’s energy-intensive process to create alternative fuels would consume as much fracked gas as the City of Eugene\, and is permitted to emit 1 million tons of greenhouse gasses per year. The NEXT refinery also is proposed in an unstable wetland\, where it would discharge harmful pollution during construction and operation\, harm sensitive fish and wildlife habitat\, create conditions for a catastrophic spill\, and negatively impact local family farms. \nJoin our next Voices for the West webinar on September 3 at 12 p.m. for a discussion with Audrey Leonard\, Staff Attorney at Columbia Riverkeeper\, and Andrew Missel\, Staff Attorney at Advocates for the West\, on our challenges to this misguided proposal. \n\nRegister here to attend the webinar.\n\n\nWatch a short video about the NEXT proposal.
URL:https://www.columbiariverkeeper.org/event/voices-for-the-west-whats-next-oregons-massively-false-climate-solution/
LOCATION:OR
ATTACH;FMTTYPE=image/jpeg:https://www.columbiariverkeeper.org/wp-content/uploads/2024/09/AerialPortWestward-Photo-Credit_-Paloma-Ayala-jpg-2-scaled.jpg
END:VEVENT
END:VCALENDAR