BEGIN:VCALENDAR
VERSION:2.0
PRODID:-//Columbia Riverkeeper - ECPv6.15.17//NONSGML v1.0//EN
CALSCALE:GREGORIAN
METHOD:PUBLISH
X-WR-CALNAME:Columbia Riverkeeper
X-ORIGINAL-URL:https://www.columbiariverkeeper.org
X-WR-CALDESC:Events for Columbia Riverkeeper
REFRESH-INTERVAL;VALUE=DURATION:PT1H
X-Robots-Tag:noindex
X-PUBLISHED-TTL:PT1H
BEGIN:VTIMEZONE
TZID:America/Los_Angeles
BEGIN:DAYLIGHT
TZOFFSETFROM:-0800
TZOFFSETTO:-0700
TZNAME:PDT
DTSTART:20240310T100000
END:DAYLIGHT
BEGIN:STANDARD
TZOFFSETFROM:-0700
TZOFFSETTO:-0800
TZNAME:PST
DTSTART:20241103T090000
END:STANDARD
BEGIN:DAYLIGHT
TZOFFSETFROM:-0800
TZOFFSETTO:-0700
TZNAME:PDT
DTSTART:20250309T100000
END:DAYLIGHT
BEGIN:STANDARD
TZOFFSETFROM:-0700
TZOFFSETTO:-0800
TZNAME:PST
DTSTART:20251102T090000
END:STANDARD
BEGIN:DAYLIGHT
TZOFFSETFROM:-0800
TZOFFSETTO:-0700
TZNAME:PDT
DTSTART:20260308T100000
END:DAYLIGHT
BEGIN:STANDARD
TZOFFSETFROM:-0700
TZOFFSETTO:-0800
TZNAME:PST
DTSTART:20261101T090000
END:STANDARD
END:VTIMEZONE
BEGIN:VEVENT
DTSTART;TZID=America/Los_Angeles:20251004T093000
DTEND;TZID=America/Los_Angeles:20251004T113000
DTSTAMP:20260415T150125
CREATED:20250902T181153Z
LAST-MODIFIED:20250902T181153Z
UID:10616-1759570200-1759577400@www.columbiariverkeeper.org
SUMMARY:Columbia River Volunteer Cleanup
DESCRIPTION:Gather your friends and family and join us to celebrate stewardship and give back to the Columbia River!\nPlease join Columbia Riverkeeper for a river cleanup and invasive weed pull at the Nichols Natural Area near the Hood River Waterfront. Help protect clean water and create room for healthy and diverse riparian habitat. \nOctober 4 @ 9:30a.m. – 11:30 a.m. PST\nNichols Natural Area\, in front of the Hampton Inn\, near the Hood River pedestrian bridge. \nFrom Downtown Hood River\, go north on Second Street and cross over I-84. Turn right on Riverside Drive followed by a right on N First St. Nichols Natural Area is in front of the Hampton Inn (1 Nichols Pkwy.). \nRSVP using the form below.\nRead the Volunteer Registration and Liability Release and Waiver Form and click agree below. \nWe will provide bags\, gloves\, and snacks. Some tools will be provided but feel free to bring your own. Please register using this link.
URL:https://www.columbiariverkeeper.org/event/nichols-natural-area-cleanup/
LOCATION:Nichols Natural Area
ATTACH;FMTTYPE=image/png:https://www.columbiariverkeeper.org/wp-content/uploads/2025/09/2025.09.15-nichols-clean-up.png
ORGANIZER;CN="Columbia Riverkeeper":MAILTO:info@columbiariverkeeper.org
END:VEVENT
END:VCALENDAR