BEGIN:VCALENDAR
VERSION:2.0
PRODID:-//Columbia Riverkeeper - ECPv6.15.17//NONSGML v1.0//EN
CALSCALE:GREGORIAN
METHOD:PUBLISH
X-ORIGINAL-URL:https://www.columbiariverkeeper.org
X-WR-CALDESC:Events for Columbia Riverkeeper
REFRESH-INTERVAL;VALUE=DURATION:PT1H
X-Robots-Tag:noindex
X-PUBLISHED-TTL:PT1H
BEGIN:VTIMEZONE
TZID:America/Los_Angeles
BEGIN:DAYLIGHT
TZOFFSETFROM:-0800
TZOFFSETTO:-0700
TZNAME:PDT
DTSTART:20240310T100000
END:DAYLIGHT
BEGIN:STANDARD
TZOFFSETFROM:-0700
TZOFFSETTO:-0800
TZNAME:PST
DTSTART:20241103T090000
END:STANDARD
BEGIN:DAYLIGHT
TZOFFSETFROM:-0800
TZOFFSETTO:-0700
TZNAME:PDT
DTSTART:20250309T100000
END:DAYLIGHT
BEGIN:STANDARD
TZOFFSETFROM:-0700
TZOFFSETTO:-0800
TZNAME:PST
DTSTART:20251102T090000
END:STANDARD
BEGIN:DAYLIGHT
TZOFFSETFROM:-0800
TZOFFSETTO:-0700
TZNAME:PDT
DTSTART:20260308T100000
END:DAYLIGHT
BEGIN:STANDARD
TZOFFSETFROM:-0700
TZOFFSETTO:-0800
TZNAME:PST
DTSTART:20261101T090000
END:STANDARD
END:VTIMEZONE
BEGIN:VEVENT
DTSTART;TZID=America/Los_Angeles:20251105T140000
DTEND;TZID=America/Los_Angeles:20251105T150000
DTSTAMP:20260415T154942
CREATED:20251015T175125Z
LAST-MODIFIED:20251022T173757Z
UID:10953-1762351200-1762354800@www.columbiariverkeeper.org
SUMMARY:Webinar: This Is Native Land
DESCRIPTION:From Hanford to Pushpum\, explore how Yakama Nation and partners are protecting Indigenous history and cultural heritage across the Columbia Plateau \nWhat: A 60-minute webinar on the Yakama Nation and SaveHistory.org collaboration on the latest edition of the children’s activity book: Save Indigenous History – Yakama Nation Collaboration.  \nWhen: Wednesday\, November 5\, 2025\, from 2 – 3 p.m. PST.  \nHow: RSVP today. We’ll send you a Zoom link and reminders. *Note: Even if you can’t attend live\, sign up and we’ll send a video recording after the event. \nCost: FREE!
URL:https://www.columbiariverkeeper.org/event/webinar-this-is-native-land/
LOCATION:OR
ATTACH;FMTTYPE=image/jpeg:https://www.columbiariverkeeper.org/wp-content/uploads/2025/03/hanford-paddle-aug-2024-credit-Ben-HerndonBH_240810_087-1-scaled.jpg
END:VEVENT
END:VCALENDAR