BEGIN:VCALENDAR
VERSION:2.0
PRODID:-//Columbia Riverkeeper - ECPv6.15.17//NONSGML v1.0//EN
CALSCALE:GREGORIAN
METHOD:PUBLISH
X-ORIGINAL-URL:https://www.columbiariverkeeper.org
X-WR-CALDESC:Events for Columbia Riverkeeper
REFRESH-INTERVAL;VALUE=DURATION:PT1H
X-Robots-Tag:noindex
X-PUBLISHED-TTL:PT1H
BEGIN:VTIMEZONE
TZID:America/Los_Angeles
BEGIN:DAYLIGHT
TZOFFSETFROM:-0800
TZOFFSETTO:-0700
TZNAME:PDT
DTSTART:20230312T100000
END:DAYLIGHT
BEGIN:STANDARD
TZOFFSETFROM:-0700
TZOFFSETTO:-0800
TZNAME:PST
DTSTART:20231105T090000
END:STANDARD
BEGIN:DAYLIGHT
TZOFFSETFROM:-0800
TZOFFSETTO:-0700
TZNAME:PDT
DTSTART:20240310T100000
END:DAYLIGHT
BEGIN:STANDARD
TZOFFSETFROM:-0700
TZOFFSETTO:-0800
TZNAME:PST
DTSTART:20241103T090000
END:STANDARD
BEGIN:DAYLIGHT
TZOFFSETFROM:-0800
TZOFFSETTO:-0700
TZNAME:PDT
DTSTART:20250309T100000
END:DAYLIGHT
BEGIN:STANDARD
TZOFFSETFROM:-0700
TZOFFSETTO:-0800
TZNAME:PST
DTSTART:20251102T090000
END:STANDARD
END:VTIMEZONE
BEGIN:VEVENT
DTSTART;TZID=America/Los_Angeles:20240829T170000
DTEND;TZID=America/Los_Angeles:20240829T190000
DTSTAMP:20260415T154555
CREATED:20240820T002647Z
LAST-MODIFIED:20240830T055751Z
UID:7680-1724950800-1724958000@www.columbiariverkeeper.org
SUMMARY:Hanford Happy Hour
DESCRIPTION:Join Columbia Riverkeeper for our Hanford Happy Hour\, a time to connect about the Hanford Nuclear Site. Learn about Riverkeeper’s advocacy efforts\, recent clean up updates\, and how you can get more involved. Snacks will be provided.
URL:https://www.columbiariverkeeper.org/event/hanford-happy-hour/
LOCATION:Lollipop Shoppe\, 736 SE Grand Ave\, Portland\, OR\, 97214\, United States
ATTACH;FMTTYPE=image/jpeg:https://www.columbiariverkeeper.org/wp-content/uploads/2024/08/kt-220Hanford-Journey-2024-photo-credit-Kelly-Turso-scaled-e1723837136991.jpg
ORGANIZER;CN="Columbia Riverkeeper":MAILTO:info@columbiariverkeeper.org
END:VEVENT
END:VCALENDAR