BEGIN:VCALENDAR
VERSION:2.0
PRODID:-//Columbia Riverkeeper - ECPv6.15.17//NONSGML v1.0//EN
CALSCALE:GREGORIAN
METHOD:PUBLISH
X-WR-CALNAME:Columbia Riverkeeper
X-ORIGINAL-URL:https://www.columbiariverkeeper.org
X-WR-CALDESC:Events for Columbia Riverkeeper
REFRESH-INTERVAL;VALUE=DURATION:PT1H
X-Robots-Tag:noindex
X-PUBLISHED-TTL:PT1H
BEGIN:VTIMEZONE
TZID:America/Los_Angeles
BEGIN:DAYLIGHT
TZOFFSETFROM:-0800
TZOFFSETTO:-0700
TZNAME:PDT
DTSTART:20240310T100000
END:DAYLIGHT
BEGIN:STANDARD
TZOFFSETFROM:-0700
TZOFFSETTO:-0800
TZNAME:PST
DTSTART:20241103T090000
END:STANDARD
BEGIN:DAYLIGHT
TZOFFSETFROM:-0800
TZOFFSETTO:-0700
TZNAME:PDT
DTSTART:20250309T100000
END:DAYLIGHT
BEGIN:STANDARD
TZOFFSETFROM:-0700
TZOFFSETTO:-0800
TZNAME:PST
DTSTART:20251102T090000
END:STANDARD
BEGIN:DAYLIGHT
TZOFFSETFROM:-0800
TZOFFSETTO:-0700
TZNAME:PDT
DTSTART:20260308T100000
END:DAYLIGHT
BEGIN:STANDARD
TZOFFSETFROM:-0700
TZOFFSETTO:-0800
TZNAME:PST
DTSTART:20261101T090000
END:STANDARD
END:VTIMEZONE
BEGIN:VEVENT
DTSTART;TZID=America/Los_Angeles:20251004T093000
DTEND;TZID=America/Los_Angeles:20251004T113000
DTSTAMP:20260415T151212
CREATED:20250902T181153Z
LAST-MODIFIED:20250902T181153Z
UID:10616-1759570200-1759577400@www.columbiariverkeeper.org
SUMMARY:Columbia River Volunteer Cleanup
DESCRIPTION:Gather your friends and family and join us to celebrate stewardship and give back to the Columbia River!\nPlease join Columbia Riverkeeper for a river cleanup and invasive weed pull at the Nichols Natural Area near the Hood River Waterfront. Help protect clean water and create room for healthy and diverse riparian habitat. \nOctober 4 @ 9:30a.m. – 11:30 a.m. PST\nNichols Natural Area\, in front of the Hampton Inn\, near the Hood River pedestrian bridge. \nFrom Downtown Hood River\, go north on Second Street and cross over I-84. Turn right on Riverside Drive followed by a right on N First St. Nichols Natural Area is in front of the Hampton Inn (1 Nichols Pkwy.). \nRSVP using the form below.\nRead the Volunteer Registration and Liability Release and Waiver Form and click agree below. \nWe will provide bags\, gloves\, and snacks. Some tools will be provided but feel free to bring your own. Please register using this link.
URL:https://www.columbiariverkeeper.org/event/nichols-natural-area-cleanup/
LOCATION:Nichols Natural Area
ATTACH;FMTTYPE=image/png:https://www.columbiariverkeeper.org/wp-content/uploads/2025/09/2025.09.15-nichols-clean-up.png
ORGANIZER;CN="Columbia Riverkeeper":MAILTO:info@columbiariverkeeper.org
END:VEVENT
BEGIN:VEVENT
DTSTART;TZID=America/Los_Angeles:20251015T190000
DTEND;TZID=America/Los_Angeles:20251015T190000
DTSTAMP:20260415T151212
CREATED:20251010T175003Z
LAST-MODIFIED:20251010T175123Z
UID:10927-1760554800-1760554800@www.columbiariverkeeper.org
SUMMARY:Chasing Chimeras at St. Johns Twin Cinema
DESCRIPTION:Film Screening & Panel Discussion!\nIf you missed last month’s screening\, you have another opportunity to see Barbara Bernstein’s latest documentary\, Chasing Chimeras: The Lure of Deceptive Climate Solutions\, on October 15 at 7 pm at St. Johns Twin Cinema\, 8704 N Lombard St in Portland\, OR.  \nThe screening will feature a post-movie panel discussion with the filmmaker and people featured in the film\, including staff from Columbia Riverkeeper. \nTickets are available here.
URL:https://www.columbiariverkeeper.org/event/chasing-chimeras-at-st-johns-twin-cinema/
LOCATION:St. Johns Twin Cinema\, 8704 N Lombard St\, Portland\, Oregon\, 97203
END:VEVENT
BEGIN:VEVENT
DTSTART;TZID=America/Los_Angeles:20251022T120000
DTEND;TZID=America/Los_Angeles:20251022T130000
DTSTAMP:20260415T151212
CREATED:20250912T182441Z
LAST-MODIFIED:20250912T182946Z
UID:10668-1761134400-1761138000@www.columbiariverkeeper.org
SUMMARY:“Science Beneath the Surface: The Science and Stakes of Columbia River Pollution”
DESCRIPTION:Webinar 10/22\nWho are the people studying toxic pollution on the Columbia and why does their research matter?  “Science Beneath the Surface: The Science and Stakes of Columbia River Pollution\,” is your chance to learn about cutting edge research and ask questions to scientists who have devoted their careers to clean water and the people who rely on it. This free webinar features Dr. Manuel Garcia-Jaramillo and Dr. Diana Rohlman from Oregon State University\, as well as Columbia Riverkeeper’s Science & Education Director\, Lorri Epstein. Learn about the impacts of toxic pollution\, new research in the Columbia River Basin\, and what we can do to reduce toxics in the river. \n\nWhat: A 60-minute webinar on cutting-edge research on Columbia River pollution and why it matters.\nWhen: Wednesday\, October\, 22\, 2025\, from 12 – 1 p.m. PST. \nHow: RSVP today. We’ll send you a Zoom link and reminders. *Note: Even if you can’t attend live\, sign up and we’ll send a video recording after the event.\nCost: FREE!\n\n \n\nThe Columbia River carries a heavy burden. From industrial discharges to agricultural runoff and legacy waste sites\, the river faces mounting toxic threats that affect fish\, wildlife\, and the health of river communities. This engaging webinar will highlight new research uncovering the scope and impacts of toxic pollution in the Columbia River and introduce you to some of the scientists doing this important work. Together\, we’ll explore why this research matters and how we can take action to protect the Columbia River and the people who depend on it. \n \nWebinar Speakers:\nLorri Epstein is the science & education director at Columbia Riverkeeper. She coordinates Columbia Riverkeeper’s Water Quality Monitoring program\, Nichols Natural Area\, and outreach and education engagement programs. Lorri is a biologist whose graduate research focused on juvenile salmon on a remote river on Russia’s Kamchatka Peninsula. Prior to joining Columbia Riverkeeper\, Lorri worked on river restoration issues on the Klamath\, Yakima\, and Umpqua Rivers. She also taught outdoor education in the California Redwoods.  \nDr. Manuel Garcia-Jaramillo is an environmental health scientist specializing in environmental chemistry and toxicology. He is currently an assistant professor of water quality toxicology at Oregon State University\, where he is driven by a commitment to safeguarding public health through innovative research on water quality. His work integrates advanced analytical chemistry and molecular biology to address the urgent global challenge of water contamination and its far-reaching health implications.   \nDr. Diana Rohlman is an associate professor (Sr. Research) at Oregon State University. Her research program studies how people understand environmental influences on health as a way of helping communities better frame and respond to environmental health hazards. Dr. Rohlman is the director of the Community Engagement Core at the Oregon State University Environmental Health Sciences Center. She also serves as co-lead of the Community Engagement Core at the OSU Superfund Research Program Center. \n  \nThis webinar was developed under Assistance Agreement No. 02J83901-0 awarded by the U.S. Environmental Protection Agency. It has not been formally reviewed by EPA. The views expressed in this document are solely those of Columbia Riverkeeper and Oregon State University\, and EPA does not endorse any products or commercial services mentioned in this publication. \n***
URL:https://www.columbiariverkeeper.org/event/science-beneath-the-surface-the-science-and-stakes-of-columbia-river-pollution/
LOCATION:Virtual
ATTACH;FMTTYPE=image/png:https://www.columbiariverkeeper.org/wp-content/uploads/2025/09/2025.10.22-science-education-webinar-website-header-image.png
ORGANIZER;CN="Columbia Riverkeeper":MAILTO:info@columbiariverkeeper.org
END:VEVENT
END:VCALENDAR